Workbook
Name _ftn1: questionario!#REF!
Name _ftn2: questionario!#REF!
Name _ftn3: questionario!#REF!
Name _ftn4: questionario!#REF!
Name _ftn5: questionario!#REF!
Name _ftn6: questionario!#REF!
Name _ftn7: questionario!#REF!
Name _ftnref1: questionario!#REF!
Name _ftnref2: questionario!#REF!
Name _ftnref3: questionario!#REF!
Name _ftnref4: questionario!#REF!
Name _ftnref5: questionario!#REF!
Name _ftnref6: questionario!#REF!
Name _ftnref7: questionario!#REF!

Sheet questionario
C1: Indagine Confindustria sul lavoro del 2024 | L1: Colonna di controllo
C5: Questionario Nazionale
K6: FALSE
A8: Persona a cui inviare i risultati:
A10: E-mail: | L10: =+IF(B10="","Compilare E-mail","") -> Compilare E-mail
A12: A) INFORMAZIONI GENERALI SULL'IMPRESA
A13: 1
A15: A.1 Denominazione dell'impresa | L15: =+IF(F15="","Compilare denominazione impresa","") -> Compilare denominazione impresa
A17: A.2 Associazione territoriale e/o di categoria | F17: CONFINDUSTRIA CASERTA | L17: =+IF(F17="","Compilare Associazione","")
L18: =+IF(C19="","Compilare Partita IVA (senza zeri iniziali)",IF(LEN(C19)>11,"Partita IVA oltre 11 caratteri?","")) -> Compilare Partita IVA (senza zeri iniziali)
A19: A.3 Partita IVA | F19: A.4.1 Codice CCNL | J19: 1 | L19: =+IF(J19=1,"Scegliere CCNL principale","") -> Scegliere CCNL principale | N19: =IF(NOT(J19=""),VLOOKUP(J19,ccnl!C2:E82,3,FALSE),"0") -> 0
A21: A.4.2 Codice Ateco attività principale | J21: 1 | L21: =+IF(J21=1,"Scegliere settore Ateco principale","") -> Scegliere settore Ateco principale | N21: =IF(NOT(J21=""),VLOOKUP(J21,ateco2007_2digit!A2:C90,3,FALSE),"0") -> 0
A23: A.5 L'impresa è plurilocalizzata? | H23: No | I23: FALSE | J23: Sì | K23: FALSE | L23: =IF(P23+Q23>1,"Scegliere una sola opzione","") | N23: =+IF(I23=TRUE,1,0) -> 0 | O23: =+IF(K23=TRUE,1,0) -> 0 | P23: =N23*1 -> 0 | Q23: =O23*1 -> 0
A25: A.6 I dati che inserirà nel questionario riguardano: | L25: =IF(NOT(N27=1),IF(NOT(N29=1),"Compilare A.6",""),IF(NOT(N29=1),"","Attenzione compilare solo un'opzione!")) -> Compilare A.6
B27: =IF(P23=1,"l'unica sede","tutta l'impresa a livello nazionale") -> tutta l'impresa a livello nazionale | E27: FALSE | H27: Provincia | K27: 1 | L27: =IF(AND(P23=1,Q23=0),IF(N27=1,IF(O27>0,"","Scegliere Provincia dell'unica sede"),IF(O27>0,"Attenzione A.6!","")),IF(AND(P23=0,Q23=1),IF(N27=1,IF(O27>0,"","Scegliere Provincia della sede principale"),IF(O27>0,"Attenzione A.6!","")),"")) | N27: =+IF(E27=TRUE,1,0) -> 0 | O27: =+IF(NOT(K27=""),VLOOKUP(K27,provincia!A1:C108,3,FALSE),0) -> 0 | P27: =N27*1 -> 0
B29: solo l'unità locale | E29: FALSE | H29: Provincia | K29: 1 | L29: =IF(OR(AND(N23=1,P29=1),AND(N23=0,O23=0,P29=1)),"Attenzione A.5!",IF(P29=1,IF(O29>"0","","Scegliere Provincia dell'unità locale"),IF(AND(P29=0,O29>"0"),"Attenzione A.6!",""))) | N29: =+IF(E29=TRUE,1,0) -> 0 | O29: =IF(NOT(K29=""),VLOOKUP(K29,provincia!A1:C108,3,FALSE),0) -> 0 | P29: =N29*1 -> 0
A32: B) STRUTTURA E DINAMICA DELL'OCCUPAZIONE
A34: B.1 Numero di lavoratori dipendenti per sesso e tipologia contrattuale
D36: Lavoratori al 31.12.2022 | H36: Lavoratori al 31.12.2023 | I36: FALSE | K36: TRUE
D37: Maschi | F37: Femmine | H37: Maschi | J37: Femmine
A38: Indeterminato full-time
A39: Indeterminato part-time
A40: Totale INDETERMINATO | D40: =+SUM(D38:E39) -> 0 | F40: =+SUM(F38:G39) -> 0 | H40: =+SUM(H38:I39) -> 0 | J40: =+SUM(J38:K39) -> 0
A41: Determinato full-time
A42: Determinato part-time
A43: Apprendistato
A44: TOTALE dipendenti | D44: =D40+SUM(D41:E43) -> 0 | F44: =F40+SUM(F41:G43) -> 0 | H44: =H40+SUM(H41:I43) -> 0 | J44: =J40+SUM(J41:K43) -> 0
A48: B.2 Numero di lavoratori DIPENDENTI A TEMPO INDETERMINATO per sesso e inquadramento professionale
A50: Attenzione: questa tabella è riferita ai soli LAVORATORI A TEMPO INDETERMINATO | D50: Lavoratori al 31.12.2022 | H50: Lavoratori al 31.12.2023
D51: Maschi | E51: di cui part-time | F51: Femmine | G51: di cui part-time | H51: Maschi | I51: di cui part-time | J51: Femmine | K51: di cui part-time
A52: Dirigenti | L52: =IF(D40>0,IF(D57>0,IF(AND(D40=D57,D39=E57),"","Attenzione Maschi 2022 in B.1!"),"Compilare Maschi 2022 in B.2"),IF(AND(D40=D57,D39=E57),"","Attenzione Maschi 2022 in B.1!"))
A53: Quadri | L53: =IF(F40>0, IF(F57>0,IF(AND(F40=F57,F39=G57),"","Attenzione Femmine 2022 in B.1!"),"Compilare Femmine 2022 in B.2"),IF(AND(F40=F57,F39=G57),"","Attenzione Femmine 2022 in B.1!"))
A54: Impiegati | L54: =IF((D39+F39)>0,IF((E57+G57)>0,IF((E57+G57)=(D39+F39),"","Attenzione part-time 2022 in B.2!"),"Compilare part-time 2022 in B.2"),IF((E57+G57)=(D39+F39),"","Attenzione part-time 2022 in B.2!"))
A55: Intermedi | L55: =IF(H40>0, IF(H57>0,IF(AND(H40=H57,H39=I57),"","Attenzione Maschi 2023 in B.1!"),"Compilare Maschi 2023 in B.2"),IF(AND(H40=H57,H39=I57),"","Attenzione Maschi 2023 in B.1!"))
A56: Operai | L56: =IF(J40>0, IF(J57>0,IF(AND(J40=J57,J39=K57),"","Attenzione Femmine 2023 in B.1!"),"Compilare Femmine 2023 in B.2"),IF(AND(J40=J57,J39=K57),"","Attenzione Femmine 2023 in B.1!"))
A57: Totale INDETERMINATO | D57: =+SUM(D52:D56) -> 0 | E57: =+SUM(E52:E56) -> 0 | F57: =+SUM(F52:F56) -> 0 | G57: =+SUM(G52:G56) -> 0 | H57: =+SUM(H52:H56) -> 0 | I57: =+SUM(I52:I56) -> 0 | J57: =+SUM(J52:J56) -> 0 | K57: =+SUM(K52:K56) -> 0 | L57: =IF((H39+J39)>0,IF((I57+K57)>0,IF((I57+K57)=(H39+J39),"","Attenzione part-time 2023 in B.2!"),"Compilare part-time 2023 in B.2"),IF((I57+K57)=(H39+J39),"","Attenzione part-time 2023 in B.2!"))
A59: B.3 Indicare il numero di dipendenti che nel corso del 2023 sono stati:
A60: N.B. non vanno conteggiate le variazioni che riguardino lo stesso lavoratore (es. i rinnovi/proroghe di contratti a tempo determinato o le trasformazioni da tempo determinato a tempo indeterminato)
B61: assunti | L61: =IF((I61+I63)>0, IF((H44+J44-D44-F44)=(I61-I63),"","Attenzione: dati non coerenti con variazione tra 31.12.2022 e 31.12.2023 del totale dipendenti ricavabile da B.1"),"")
B63: cessati (dimessi, pensionati, licenziati, con contratti terminati, ...)
...

Sheet feedback assenze
D2: Check-up assenze anno 2023 | H2: =CONCATENATE(" - ",UPPER(questionario!F15)) -> -
A4: =CONCATENATE("Buongiorno ",PROPER(questionario!D8),".") -> Buongiorno .
A5: Le confermiamo di aver ricevuto il questionario che ci ha gentilmente compilato.
A6: Vogliamo ringraziarla per l’indispensabile collaborazione che ci ha prestato e le restituiamo - sulla base dei dati che ha inserito - un quadro sintetico della situazione della sua azienda per quanto riguarda ore lavorate e tassi di assenza:
C8: Totale | F8: Quadri | I8: Impiegati/Intermedi | L8: Operai
C9: Maschi | D9: Femmine | E9: Totale | F9: Maschi | G9: Femmine | H9: Totale | I9: Maschi | J9: Femmine | K9: Totale | L9: Maschi | M9: Femmine | N9: Totale
A10: Lavoratori* | C10: =+F10+I10+L10 -> 0 | D10: =+G10+J10+M10 -> 0 | E10: =C10+D10 -> 0 | F10: =+questionario!S101 -> 0 | G10: =+questionario!T101 -> 0 | H10: =+F10+G10 -> 0 | I10: =+questionario!V101 -> 0 | J10: =+questionario!W101 -> 0 | K10: =+I10+J10 -> 0 | L10: =+questionario!Y101 -> 0 | M10: =+questionario!Z101 -> 0 | N10: =+L10+M10 -> 0
A11: Ore lavorabili | C11: =IF(C$10>0,+(F11*F$10+I11*I$10+L11*L$10)/C$10,"0") -> 0 | D11: =IF(D$10>0,+(G11*G$10+J11*J$10+M11*M$10)/D$10,"0") -> 0 | E11: =IF(C10>0,IF(D10>0,+(C11*C10+D11*D10)/E10,C11),D11) -> 0 | F11: =+questionario!S102 -> 0 | G11: =+questionario!T102 -> 0 | H11: =IF(F10>0,IF(G10>0,+(F11*F10+G11*G10)/H10,F11),G11) -> 0 | I11: =+questionario!V102 -> 0 | J11: =+questionario!W102 -> 0 | K11: =IF(I10>0,IF(J10>0,+(I11*I10+J11*J10)/K10,I11),J11) -> 0 | L11: =+questionario!Y102 -> 0 | M11: =+questionario!Z102 -> 0 | N11: =IF(L10>0,IF(M10>0,+(L11*L10+M11*M10)/N10,L11),M11) -> 0
A12: Ore lavorate | C12: =IF($C$10>0,+(F12*$F$10+I12*$I$10+L12*$L$10)/$C$10,"0") -> 0 | D12: =IF(D$10>0,+(G12*G$10+J12*J$10+M12*M$10)/D$10,"0") -> 0 | E12: =IF(C10>0,IF(D10>0,+(C12*C10+D12*D10)/E10,C12),D12) -> 0 | F12: =+questionario!S103 -> 0 | G12: =+questionario!T103 -> 0 | H12: =IF(F10>0,IF(G10>0,+(F12*F10+G12*G10)/H10,F12),G12) -> 0 | I12: =+questionario!V103 -> 0 | J12: =+questionario!W103 -> 0 | K12: =IF(I10>0,IF(J10>0,+(I12*I10+J12*J10)/K10,I12),J12) -> 0 | L12: =+questionario!Y103 -> 0 | M12: =+questionario!Z103 -> 0 | N12: =IF(L10>0,IF(M10>0,+(L12*L10+M12*M10)/N10,L12),M12) -> 0
A13: Ore assenza pro-capite | C13: =IF($C$10>0,+(F13*$F$10+I13*$I$10+L13*$L$10)/$C$10,"0") -> 0 | D13: =IF(D$10>0,+(G13*G$10+J13*J$10+M13*M$10)/D$10,"0") -> 0 | E13: =IF(C10>0,IF(D10>0,+E11-E12,C13),D13) -> 0 | F13: =IF(F10>0,+F11-F12,"0") -> 0 | G13: =IF(G10>0,+G11-G12,"0") -> 0 | H13: =IF(F10>0,IF(G10>0,+H11-H12,F13),G13) -> 0 | I13: =IF(I10>0,+I11-I12,"0") -> 0 | J13: =IF(J10>0,+J11-J12,"0") -> 0 | K13: =IF(I10>0,IF(J10>0,+K11-K12,I13),J13) -> 0 | L13: =IF(L10>0,+L11-L12,"0") -> 0 | M13: =IF(M10>0,+M11-M12,"0") -> 0 | N13: =IF(L10>0,IF(M10>0,+N11-N12,L13),M13) -> 0
A14: Tasso di gravità | C14: =IF($C$10>0,+(F14*$F$10+I14*$I$10+L14*$L$10)/$C$10,"0") -> 0 | D14: =IF(D$10>0,+(G14*G$10+J14*J$10+M14*M$10)/D$10,"0") -> 0 | E14: =IF(C10>0,IF(D10>0,+E13/E11,C14),D14) -> 0 | F14: =IF(F10>0,+F13/F11,"0") -> 0 | G14: =IF(G10>0,+G13/G11,"0") -> 0 | H14: =IF(F10>0,IF(G10>0,+H13/H11,F14),G14) -> 0 | I14: =IF(I10>0,+I13/I11,"0") -> 0 | J14: =IF(J10>0,+J13/J11,"0") -> 0 | K14: =IF(I10>0,IF(J10>0,+K13/K11,I14),J14) -> 0 | L14: =IF(L10>0,+L13/L11,"0") -> 0 | M14: =IF(M10>0,+M13/M11,"0") -> 0 | N14: =IF(L10>0,IF(M10>0,+N13/N11,L14),M14) -> 0
A15: * Numero medio di lavoratori a tempo indeterminato full-time in organico a dicembre 2022 e a dicembre 2023.
A17: Rimaniamo a disposizione per ogni chiarimento sui numeri contenuti nella tabella.
A18: =CONCATENATE("Ci auguriamo di poter contare anche in futuro sulla sua attiva partecipazione, e provvederemo a informarla - all’indirizzo ",LOWER(questionario!B10)," che ha indicato sul questionario - non appena saranno disponibili i risultati dell’indagine.") -> Ci auguriamo di poter contare anche in futuro sulla sua attiva partecipazione, e provvederemo a informarla - all’indirizzo che ha indicato sul questionario - non appena saranno disponibili i risultati dell’indagine.
A19: Con i migliori saluti.
A23: PER LE ASSOCIAZIONI: Metodo di calcolo del tasso di gravità
A25: Elementi per il calcolo: | G25: Esempio
A27: lavoratori al 31.12.2022 | G27: 9
A28: lavoratori al 31.12.2023 | G28: 11
A29: numero medio lavoratori nel 2023 | G29: =AVERAGE(G27:G28) -> 10
A30: giorni dell'anno | G30: 365
A31: sabati e domeniche | G31: 105
A32: festività infrasettimanali nel 2023 | G32: 10
A33: giorni di ferie e P.A.R. | G33: 33
A34: orario settimanale | G34: 40
A35: pause retribuite per settimana (in minuti) | G35: 60
A36: ore di CIG (pro-capite) | G36: =500/G29 -> 50
A37: Ore lavorabili: (365 - 105 - 10 - 33) x (40 - 60/60)/5 - 50 = | G37: =+((G30-G31-G33-G32)*((G34-(G35/60))/5))-G36 -> 1642.6
A39: 1. Infortuni sul lavoro e malattie professionali | G39: =100/G29 -> 10
A40: 2. Malattie non professionali | G40: =100/G29 -> 10
A41: 3. Congedi retribuiti | G41: =100/G29 -> 10
A42: 4. Altri permessi retribuiti | G42: =100/G29 -> 10
A43: 5. Assenze per sciopero | G43: =100/G29 -> 10
A44: 6. Altre assenze non retribuite | G44: =100/G29 -> 10
A45: 7. Ore di assemblea | G45: =100/G29 -> 10
A46: Ore di assenza pro-capite (totale): | G46: =SUM(G39:G45) -> 70
A48: Tasso di gravità: Ore di assenza in % delle ore lavorabili = | G48: =G46/G37 -> 0.042615366
D59: =+D55+SUM(D56:E58) -> 0 | F59: =+F55+SUM(F56:G58) -> 0 | H59: =+H55+SUM(H56:I58) -> 0 | J59: =+J55+SUM(J56:K58) -> 0

Sheet ccnl
B1: contratti | C1: 3 Colonne in cui pescano formule della tendina CCNL
C2: 1 | D2: (Scegliere CCNL principale)
A3: 0100 | B3: ALIMENTARE | C3: 2 | D3: 100 - ALIMENTARE | E3: =A3*1 -> 100
A4: 0102 | B4: ADDETTI IMBARCATI SU NATANTI ESERCENTI PESCA MARITTIMA | C4: 3 | D4: 102 - PESCA MARITTIMA | E4: =A4*1 -> 102
A5: 0200 | B5: METALMECCANICO | C5: 4 | D5: 200 - METALMECCANICO | E5: =A5*1 -> 200
A6: 0204 | B6: ORAFI E ARGENTIERI | C6: 5 | D6: 204 - ORAFI E ARGENTIERI | E6: =A6*1 -> 204
A7: 0300 | B7: TESSILE E ABBIGLIAMENTO | C7: 6 | D7: 300 - TESSILE E ABBIGLIAMENTO | E7: =A7*1 -> 300
A8: 0302 | B8: CALZATURIERO | C8: 7 | D8: 302 - CALZATURIERO | E8: =A8*1 -> 302
A9: 0303 | B9: PELLI, CUOIO E SUCCEDANEI | C9: 8 | D9: 303 - PELLI, CUOIO E SUCCEDANEI | E9: =A9*1 -> 303
A10: 0304 | B10: PENNE, MATITE E AFFINI, SPAZZOLE, PENNELLI, SCOPE | C10: 9 | D10: 304 - PENNE, MATITE E AFFINI, SPAZZOLE, PENNELLI, SCOPE | E10: =A10*1 -> 304
A11: 0306 | B11: OMBRELLI-OMBRELLONI | C11: 10 | D11: 306 - OMBRELLI-OMBRELLONI | E11: =A11*1 -> 306
A12: 0308 | B12: OCCHIALI E ARTICOLI INERENTI L'OCCHIALERIA | C12: 11 | D12: 308 - OCCHIALI E ARTICOLI INERENTI L'OCCHIALERIA | E12: =A12*1 -> 308
A13: 0309 | B13: FILIERA ITTICA E RETIFICI | C13: 12 | D13: 309 - FILIERA ITTICA E RETIFICI | E13: =A13*1 -> 309
A14: 0310 | B14: LAVANDERIE INDUSTRIALI | C14: 13 | D14: 310 - LAVANDERIE INDUSTRIALI | E14: =A14*1 -> 310
... A82: 3100 | B82: ALTRO | C82: 81 | D82: 3100 - ALTRO | E82: =A82*1 -> 3100

Sheet ateco2007_2digit
A1: Riga | B1: Descrizione | C1: Codice Ateco 2007
A2: 1 | B2: (Scegliere Ateco principale) | C2: 0
A3: 2 | B3: 01 - Coltivazioni agricole e produzione di prodotti animali, caccia e servizi connessi | C3: 1
A4: 3 | B4: 02 - Silvicoltura ed utilizzo di aree forestali | C4: 2
A5: 4 | B5: 03 - Pesca e acquacoltura | C5: 3
A6: 5 | B6: 05 - Estrazione di carbone (esclusa torba) | C6: 5
A7: 6 | B7: 06 - Estrazione di petrolio greggio e di gas naturale | C7: 6
A8: 7 | B8: 07 - Estrazione di minerali metalliferi | C8: 7
A9: 8 | B9: 08 - Altre attività di estrazione di minerali da cave e miniere | C9: 8
A10: 9 | B10: 09 - Attività dei servizi di supporto all'estrazione | C10: 9
A11: 10 | B11: 10 - Industrie alimentari | C11: 10
A12: 11 | B12: 11 - Industria delle bevande | C12: 11
A13: 12 | B13: 12 - Industria del tabacco | C13: 12
... A90: 89 | B90: 99 - Organizzazioni ed organismi extraterritoriali | C90: 99

Sheet provincia
A1: 1 | B1: (Scegliere Provincia) | D1: Denominazione regione | E1: Ripartizione geografica
A2: 2 | B2: AG - Agrigento | C2: AG | D2: SICILIA | E2: ISOLE | F2: CENTRO-SUD
A3: 3 | B3: AL - Alessandria | C3: AL | D3: PIEMONTE | E3: NORD-OVEST | F3: NORD-OVEST
A4: 4 | B4: AN - Ancona | C4: AN | D4: MARCHE | E4: CENTRO | F4: CENTRO-SUD
A5: 5 | B5: AO - Valle d'Aosta | C5: AO | D5: VALLE D'AOSTA | E5: NORD-OVEST | F5: NORD-OVEST
A6: 6 | B6: AP - Ascoli Piceno | C6: AP | D6: MARCHE | E6: CENTRO | F6: CENTRO-SUD
A7: 7 | B7: AQ - L'Aquila | C7: AQ | D7: ABRUZZO | E7: SUD | F7: CENTRO-SUD
A8: 8 | B8: AR - Arezzo | C8: AR | D8: TOSCANA | E8: CENTRO | F8: CENTRO-SUD
A9: 9 | B9: AT - Asti | C9: AT | D9: PIEMONTE | E9: NORD-OVEST | F9: NORD-OVEST
A10: 10 | B10: AV - Avellino | C10: AV | D10: CAMPANIA | E10: SUD | F10: CENTRO-SUD
A11: 11 | B11: BA - Bari | C11: BA | D11: PUGLIA | E11: SUD | F11: CENTRO-SUD
A12: 12 | B12: BG - Bergamo | C12: BG | D12: LOMBARDIA | E12: NORD-OVEST | F12: NORD-OVEST
A13: 13 | B13: BI - Biella | C13: BI | D13: PIEMONTE | E13: NORD-OVEST | F13: NORD-OVEST
... A108: 108 | B108: VV - Vibo Valentia | C108: VV | D108: CALABRIA | E108: SUD | F108: CENTRO-SUD
