Workbook
Name _ftn1: questionario!#REF!
Name _ftn2: questionario!#REF!
Name _ftn3: questionario!#REF!
Name _ftn4: questionario!#REF!
Name _ftn5: questionario!#REF!
Name _ftn6: questionario!#REF!
Name _ftn7: questionario!#REF!
Name _ftnref1: questionario!#REF!
Name _ftnref2: questionario!#REF!
Name _ftnref3: questionario!#REF!
Name _ftnref4: questionario!#REF!
Name _ftnref5: questionario!#REF!
Name _ftnref6: questionario!#REF!
Name _ftnref7: questionario!#REF!

Sheet questionario
C1: Indagine Confindustria sul lavoro del 2024 | L1: Colonna di controllo
C5: Questionario Nazionale
K6: FALSE
A8: Persona a cui inviare i risultati:
A10: E-mail: | L10: =+IF(B10="","Compilare E-mail","") -> Compilare E-mail
A12: A) INFORMAZIONI GENERALI SULL'IMPRESA
A13: 1
A15: A.1 Denominazione dell'impresa | L15: =+IF(F15="","Compilare denominazione impresa","") -> Compilare denominazione impresa
A17: A.2 Associazione territoriale e/o di categoria | F17: CONFINDUSTRIA CASERTA | L17: =+IF(F17="","Compilare Associazione","")
L18: =+IF(C19="","Compilare Partita IVA (senza zeri iniziali)",IF(LEN(C19)>11,"Partita IVA oltre 11 caratteri?","")) -> Compilare Partita IVA (senza zeri iniziali)
A19: A.3 Partita IVA | F19: A.4.1 Codice CCNL | J19: 1 | L19: =+IF(J19=1,"Scegliere CCNL principale","") -> Scegliere CCNL principale | N19: =IF(NOT(J19=""),VLOOKUP(J19,ccnl!C2:E82,3,FALSE),"0") -> 0
A21: A.4.2 Codice Ateco attività principale | J21: 1 | L21: =+IF(J21=1,"Scegliere settore Ateco principale","") -> Scegliere settore Ateco principale | N21: =IF(NOT(J21=""),VLOOKUP(J21,ateco2007_2digit!A2:C90,3,FALSE),"0") -> 0
A23: A.5 L'impresa è plurilocalizzata? | H23: No | I23: FALSE | J23: Sì | K23: FALSE | L23: =IF(P23+Q23>1,"Scegliere una sola opzione","") | N23: =+IF(I23=TRUE,1,0) -> 0 | O23: =+IF(K23=TRUE,1,0) -> 0 | P23: =N23*1 -> 0 | Q23: =O23*1 -> 0
A25: A.6 I dati che inserirà nel questionario riguardano: | L25: =IF(NOT(N27=1),IF(NOT(N29=1),"Compilare A.6",""),IF(NOT(N29=1),"","Attenzione compilare solo un'opzione!")) -> Compilare A.6
B27: =IF(P23=1,"l'unica sede","tutta l'impresa a livello nazionale") -> tutta l'impresa a livello nazionale | E27: FALSE | H27: Provincia | K27: 1 | L27: =IF(AND(P23=1,Q23=0),IF(N27=1,IF(O27>0,"","Scegliere Provincia dell'unica sede"),IF(O27>0,"Attenzione A.6!","")),IF(AND(P23=0,Q23=1),IF(N27=1,IF(O27>0,"","Scegliere Provincia della sede principale"),IF(O27>0,"Attenzione A.6!","")),"")) | N27: =+IF(E27=TRUE,1,0) -> 0 | O27: =+IF(NOT(K27=""),VLOOKUP(K27,provincia!A1:C108,3,FALSE),0) -> 0 | P27: =N27*1 -> 0
B29: solo l'unità locale | E29: FALSE | H29: Provincia | K29: 1 | L29: =IF(OR(AND(N23=1,P29=1),AND(N23=0,O23=0,P29=1)),"Attenzione A.5!",IF(P29=1,IF(O29>"0","","Scegliere Provincia dell'unità locale"),IF(AND(P29=0,O29>"0"),"Attenzione A.6!",""))) | N29: =+IF(E29=TRUE,1,0) -> 0 | O29: =IF(NOT(K29=""),VLOOKUP(K29,provincia!A1:C108,3,FALSE),0) -> 0 | P29: =N29*1 -> 0
A32: B) STRUTTURA E DINAMICA DELL'OCCUPAZIONE
A34: B.1 Numero di lavoratori dipendenti per sesso e tipologia contrattuale
D36: Lavoratori al 31.12.2022 | H36: Lavoratori al 31.12.2023 | I36: FALSE | K36: TRUE
D37: Maschi | F37: Femmine | H37: Maschi | J37: Femmine
A38: Indeterminato full-time
A39: Indeterminato part-time
A40: Totale INDETERMINATO | D40: =+SUM(D38:E39) -> 0 | F40: =+SUM(F38:G39) -> 0 | H40: =+SUM(H38:I39) -> 0 | J40: =+SUM(J38:K39) -> 0
A41: Determinato full-time
A42: Determinato part-time
A43: Apprendistato
A44: TOTALE dipendenti | D44: =D40+SUM(D41:E43) -> 0 | F44: =F40+SUM(F41:G43) -> 0 | H44: =H40+SUM(H41:I43) -> 0 | J44: =J40+SUM(J41:K43) -> 0
A48: B.2 Numero di lavoratori DIPENDENTI A TEMPO INDETERMINATO per sesso e inquadramento professionale
A50: Attenzione: questa tabella è riferita ai soli LAVORATORI A TEMPO INDETERMINATO | D50: Lavoratori al 31.12.2022 | H50: Lavoratori al 31.12.2023
D51: Maschi | E51: di cui part-time | F51: Femmine | G51: di cui part-time | H51: Maschi | I51: di cui part-time | J51: Femmine | K51: di cui part-time
A52: Dirigenti | L52: =IF(D40>0,IF(D57>0,IF(AND(D40=D57,D39=E57),"","Attenzione Maschi 2022 in B.1!"),"Compilare Maschi 2022 in B.2"),IF(AND(D40=D57,D39=E57),"","Attenzione Maschi 2022 in B.1!"))
A53: Quadri | L53: =IF(F40>0, IF(F57>0,IF(AND(F40=F57,F39=G57),"","Attenzione Femmine 2022 in B.1!"),"Compilare Femmine 2022 in B.2"),IF(AND(F40=F57,F39=G57),"","Attenzione Femmine 2022 in B.1!"))
A54: Impiegati | L54: =IF((D39+F39)>0,IF((E57+G57)>0,IF((E57+G57)=(D39+F39),"","Attenzione part-time 2022 in B.2!"),"Compilare part-time 2022 in B.2"),IF((E57+G57)=(D39+F39),"","Attenzione part-time 2022 in B.2!"))
A55: Intermedi | L55: =IF(H40>0, IF(H57>0,IF(AND(H40=H57,H39=I57),"","Attenzione Maschi 2023 in B.1!"),"Compilare Maschi 2023 in B.2"),IF(AND(H40=H57,H39=I57),"","Attenzione Maschi 2023 in B.1!"))
A56: Operai | L56: =IF(J40>0, IF(J57>0,IF(AND(J40=J57,J39=K57),"","Attenzione Femmine 2023 in B.1!"),"Compilare Femmine 2023 in B.2"),IF(AND(J40=J57,J39=K57),"","Attenzione Femmine 2023 in B.1!"))
A57: Totale INDETERMINATO | D57: =+SUM(D52:D56) -> 0 | E57: =+SUM(E52:E56) -> 0 | F57: =+SUM(F52:F56) -> 0 | G57: =+SUM(G52:G56) -> 0 | H57: =+SUM(H52:H56) -> 0 | I57: =+SUM(I52:I56) -> 0 | J57: =+SUM(J52:J56) -> 0 | K57: =+SUM(K52:K56) -> 0 | L57: =IF((H39+J39)>0,IF((I57+K57)>0,IF((I57+K57)=(H39+J39),"","Attenzione part-time 2023 in B.2!"),"Compilare part-time 2023 in B.2"),IF((I57+K57)=(H39+J39),"","Attenzione part-time 2023 in B.2!"))
A59: B.3 Indicare il numero di dipendenti che nel corso del 2023 sono stati:
A60: N.B. non vanno conteggiate le variazioni che riguardino lo stesso lavoratore (es. i rinnovi/proroghe di contratti a tempo determinato o le trasformazioni da tempo determinato a tempo indeterminato)
B61: assunti | L61: =IF((I61+I63)>0, IF((H44+J44-D44-F44)=(I61-I63),"","Attenzione: dati non coerenti con variazione tra 31.12.2022 e 31.12.2023 del totale dipendenti ricavabile da B.1"),"")
B63: cessati (dimessi, pensionati, licenziati, con contratti terminati, ...)
B65: di cui cessati: | C65: - per dimissioni | L65: =IF(OR(I61+I63>0,I65+I66>0), IF(AND(I65<=I63,I66<=I63,I65+I66<=I63),"","Attenzione: dati non coerenti con dipendenti cessati"),"")
C66: - per uscita incentivata
A68: Sulla base delle informazioni fornite, nel 2023 il turnover è stato pari a: | I68: =IF(ISERROR((I61+I63)/(D44+F44)),"",(I61+I63)/(D44+F44))
A71: B.4. L'impresa si è avvalsa di lavoratori in somministrazione e/o staff leasing nel 2023? | B71: FALSE | D71: FALSE
B72: Somministrazione a tempo determinato (ex-interinale)
A73: No | B73: FALSE | C73: Sì | D73: FALSE | E73: Quanti | K73: =IF(P73+Q73>1,"Scegliere una sola opzione",IF(AND(Q73=1,F73=0),"Indicare il numero di lavoratori somministrati a tempo determinato",IF(AND(Q73=0,P73=1,F73>0),"Attenzione: risposte non coerenti tra loro",""))) | N73: =+IF(B73=TRUE,"1","0") -> 0 | O73: =+IF(D73=TRUE,"1","0") -> 0 | P73: =N73*1 -> 0 | Q73: =O73*1 -> 0
D74: FALSE
B75: Somministrazione a tempo indeterminato/staff-leasing
A76: No | B76: FALSE | C76: Sì | D76: FALSE | E76: Quanti | K76: =IF(P76+Q76>1,"Scegliere una sola opzione",IF(AND(Q76=1,F76=0),"Indicare il numero di lavoratori somministrati a tempo indeterminato",IF(AND(Q76=0,P76=1,F76>0),"Attenzione: risposte non coerenti tra loro",""))) | N76: =+IF(B76=TRUE,"1","0") -> 0 | O76: =+IF(D76=TRUE,"1","0") -> 0 | P76: =N76*1 -> 0 | Q76: =O76*1 -> 0
L85: =IF(P85+Q85>1,"Scegliere una sola opzione","")
A87: C) ORARI E ASSENZE DAL LAVORO
A88: Le informazioni richieste in questa sezione si riferiscono al solo personale dipendente A TEMPO INDETERMINATO FULL-TIME
A90: I dati in questa tabella vanno forniti per lavoratore (dati medi)
H91: Quadri/Impiegati/ Intermedi | J91: Operai | N91: Check interno: correzioni per errori presunti
A92: C.1 GIORNI di ferie, P.A.R.1 e permessi per banca ore e conto ore per lavoratore effettivamente goduti nel 2023 (es. 20 + 4 + 9 = 33 giorni) | L92: =IF(F104+G104+H104+I104=0,IF(H92>0,"Nessun quadro/impieg./intermedio FT in B.2!",""),IF(H92=0,"Compilare Ferie Quadri/Impiegati/Intermedi","")) | N92: Se azienda ha fornito monte ferie /ore lavorate invece che pro-capite
L93: =IF(J104+K104=0,IF(J92>0,"Nessun Operaio FT in B.2!",""),IF(J92=0,"Compilare Ferie Operai","")) | N93: Allora pro-capite sarebbe:
A94: C.2 ORARIO SETTIMANALE per lavoratore da CCNL, al lordo delle pause retribuite (es. 40 ore a settimana; 37,5 ore; ecc.) | L94: =IF(F104+G104+H104+I104=0,IF(H94>0,"Nessun quadro/impiegato/intermedio in B.2!",""),IF(H94=0,"Compilare Orario Quadri/Impiegati/Intermedi",IF(H94>48,"Orario settimanale > 48 ore?",""))) | O94: QII | P94: O
L95: =IF(J104+K104=0,IF(J94>0,"Nessun operaio in B.2!",""),IF(J94=0,"Compilare Orario Operai",IF(J94>48,"Orario settimanale > 48?",""))) | N95: Ferie | O95: =H92/(F104+G104+H104+I104) -> #DIV/0! | P95: =J92/(J104+K104) -> #DIV/0!
A96: di cui MINUTI SETTIMANALI di pause retribuite per lavoratore a settimana (es. 10 minuti per 5 giorni = 50 minuti alla settimana) | N96: Orario | O96: =H94/(F104+G104+H104+I104) -> #DIV/0! | P96: =J94/(J104+K104) -> #DIV/0!
A97: 1 Ex-festività, riduzioni di orario di lavoro.
A99: C.3 MONTE ORE DI ASSENZA, CIG E STRAORDINARIO NEL 2023 (fornire il numero totale di ore di assenza effettuate dai lavoratori a tempo indeterminato full-time nel corso del 2023) | P99: Totale | S99: Quadri | V99: Impiegati/Intermedi | Y99: Operai
A100: Qualora fosse disponibile solo un'informazione aggregata, indicare qui sotto il personale a cui si riferiscono i dati (es. maschi+femmine; quadri+impiegati). | P100: Maschi | Q100: Femmine | R100: Totale | S100: Maschi | T100: Femmine | U100: Totale | V100: Maschi | W100: Femmine | X100: Totale | Y100: Maschi | Z100: Femmine | AA100: Totale
A101: I dati si riferiscono a: | F101: …........................................................................... | N101: Lavoratori* | P101: =+S101+V101+Y101 -> 0 | Q101: =+T101+W101+Z101 -> 0 | R101: =+U101+X101+AA101 -> 0 | S101: =+$F$104 -> 0 | T101: =$G$104 -> 0 | U101: =+S101+T101 -> 0 | V101: =$H$104 -> 0 | W101: =$I$104 -> 0 | X101: =+V101+W101 -> 0 | Y101: =$J$104 -> 0 | Z101: =$K$104 -> 0 | AA101: =+Y101+Z101 -> 0
F102: Quadri | H102: Impiegati/Intermedi | J102: Operai | N102: Ore lavorabili | P102: =IF(P101>0,+(S102*S101+V102*V101+Y102*Y101)/P101,"0") -> 0 | Q102: =IF(Q101>0,+(T102*T101+W102*W101+Z102*Z101)/Q101,"0") -> 0 | R102: =IF(P101>0,IF(Q101>0,+(P102*P101+Q102*Q101)/R101,P102),Q102) -> 0 | S102: =IF(S101>0,(((365-105-10-H92)/5)*(H94-(H96/60))-F117/S101),"0") -> 0 | T102: =IF(T101>0,(((365-105-10-H92)/5)*(H94-(H96/60))-G117/T101),"0") -> 0 | U102: =IF(S101>0,IF(T101>0,+(S102*S101+T102*T101)/U101,S102),T102) -> 0 | V102: =IF(V101>0,(((365-105-10-H92)/5)*(H94-(H96/60))-H117/V101),"0") -> 0 | W102: =IF(W101>0,(((365-105-10-H92)/5)*(H94-(H96/60))-I117/W101),"0") -> 0 | X102: =IF(V101>0,IF(W101>0,+(V102*V101+W102*W101)/X101,V102),W102) -> 0 | Y102: =IF(Y101>0,(((365-105-10-J92)/5)*(J94-(J96/60))-J117/Y101),"0") -> 0 | Z102: =IF(Z101>0,(((365-105-10-J92)/5)*(J94-(J96/60))-K117/Z101),"0") -> 0 | AA102: =IF(Y101>0,IF(Z101>0,+(Y102*Y101+Z102*Z101)/AA101,Y102),Z102) -> 0
F103: Maschi | G103: Femmine | H103: Maschi | I103: Femmine | J103: Maschi | K103: Femmine | N103: Ore lavorate | P103: =IF(P101>0,+(S103*S101+V103*V101+Y103*Y101)/P101,"0") -> 0 | Q103: =IF(Q101,+(T103*T101+W103*W101+Z103*Z101)/Q101,"0") -> 0 | R103: =IF(P101>0,IF(Q101>0,+(P103*P101+Q103*Q101)/R101,P103),Q103) -> 0 | S103: =IF(S101>0,+S102-(F105+F106+F109+F110+F112+F113+F114)/S101,"0") -> 0 | T103: =IF(T101>0,+T102-(G105+G106+G109+G110+G112+G113+G114)/T101,"0") -> 0 | U103: =IF(S101>0,IF(T101>0,+(S103*S101+T103*T101)/U101,S103),T103) -> 0 | V103: =IF(V101>0,+V102-(H105+H106+H109+H110+H112+H113+H114)/V101,"0") -> 0 | W103: =IF(W101>0,+W102-(I105+I106+I109+I110+I112+I113+I114)/W101,"0") -> 0 | X103: =IF(V101>0,IF(W101>0,+(V103*V101+W103*W101)/X101,V103),W103) -> 0 | Y103: =IF(Y101>0,+Y102-(J105+J106+J109+J110+J112+J113+J114)/Y101,"0") -> 0 | Z103: =IF(Z101>0,+Z102-(K105+K106+K109+K110+K112+K113+K114)/Z101,"0") -> 0 | AA103: =IF(Y101>0,IF(Z101>0,+(Y103*Y101+Z103*Z101)/AA101,Y103),Z103) -> 0
A104: La riga riporta il numero medio di lavoratori full-time a tempo indeterminato nel corso del 2023 (come da organici indicati in B.2) | F104: =+(D53+H53-E53-I53)/2 -> 0 | G104: =(F53+J53-G53-K53)/2 -> 0 | H104: =+(D54+D55+H54+H55-E54-E55-I54-I55)/2 -> 0 | I104: =+(F54+F55+J54+J55-G54-G55-K54-K55)/2 -> 0 | J104: =+(D56+H56-E56-I56)/2 -> 0 | K104: =+(F56+J56-G56-K56)/2 -> 0 | N104: Ore assenza pro-capite | P104: =IF(P101>0,+(S104*S101+V104*V101+Y104*Y101)/P101,"0") -> 0 | Q104: =IF(Q101>0,+(T104*T101+W104*W101+Z104*Z101)/Q101,"0") -> 0 | R104: =IF(P101>0,IF(Q101>0,+R102-R103,P104),Q104) -> 0 | S104: =IF(S101>0,+S102-S103,"0") -> 0 | T104: =IF(T101>0,+T102-T103,"0") -> 0 | U104: =IF(S101>0,IF(T101>0,+U102-U103,S104),T104) -> 0 | V104: =IF(V101>0,+V102-V103,"0") -> 0 | W104: =IF(W101>0,+W102-W103,"0") -> 0 | X104: =IF(V101>0,IF(W101>0,+X102-X103,V104),W104) -> 0 | Y104: =IF(Y101>0,+Y102-Y103,"0") -> 0 | Z104: =IF(Z101>0,+Z102-Z103,"0") -> 0 | AA104: =IF(Y101>0,IF(Z101>0,+AA102-AA103,Y104),Z104) -> 0
A105: 1. Infortuni per lavoro e malattie professionali | L105: =IF(F104+F105+F106+F109+F110+F111+F112+F113+F114+F117=0,"",IF(F104=0,IF(F105+F106+F109+F110+F111+F112+F113+F114+F117>0,"Attenzione Zero Quadri M full-time in B.2!",""),IF(F105+F106+F109+F110+F111+F112+F113+F114=0,"Nessuna assenza per Quadri M?",""))) | N105: 1. Giorni infortuni pro-capite | S105: =IF(S$101>0,+F105/S$101/8,"0") -> 0 | T105: =IF(T$101>0,+G105/T$101/8,"0") -> 0 | V105: =IF(V$101>0,+H105/V$101/8,"0") -> 0 | W105: =IF(W$101>0,+I105/W$101/8,"0") -> 0 | Y105: =IF(Y$101>0,+J105/Y$101/8,"0") -> 0 | Z105: =IF(Z$101>0,+K105/Z$101/8,"0") -> 0
A106: 2. Malattie non professionali | L106: =IF(G104+G105+G106+G109+G110+G111+G112+G113+G114+G117=0,"",IF(G104=0,IF(G105+G106+G109+G110+G111+G112+G113+G114+G117>0,"Attenzione Zero Quadri F full-time in B.2!",""),IF(G105+G106+G109+G110+G111+G112+G113+G114=0,"Nessuna assenza per Quadri F?",""))) | N106: 2. Giorni malattia pro-capite | S106: =IF(S$101>0,+F106/S$101/8,"0") -> 0 | T106: =IF(T$101>0,+G106/T$101/8,"0") -> 0 | V106: =IF(V$101>0,+H106/V$101/8,"0") -> 0 | W106: =IF(W$101>0,+I106/W$101/8,"0") -> 0 | Y106: =IF(Y$101>0,+J106/Y$101/8,"0") -> 0 | Z106: =IF(Z$101>0,+K106/Z$101/8,"0") -> 0
A107: 2a. di cui: per carenza (inferiore a 3 giorni di malattia degli operai) | L107: =IF(OR(J107>J106,K107>K106),"Attenzione: Carenza > Malattie non professionali (punto 2.)","") | N107: 2a. di cui per carenza | S107: =IF(S$101>0,+F107/S$101/8,"0") -> 0 | T107: =IF(T$101>0,+G107/T$101/8,"0") -> 0 | V107: =IF(V$101>0,+H107/V$101/8,"0") -> 0 | W107: =IF(W$101>0,+I107/W$101/8,"0") -> 0 | Y107: =IF(Y$101>0,+J107/Y$101/8,"0") -> 0 | Z107: =IF(Z$101>0,+K107/Z$101/8,"0") -> 0
A108: 3b. Maternità e allattamento | S108: =IF(S$101>0,+F108/S$101/8,"0") -> 0 | T108: =IF(T$101>0,+G108/T$101/8,"0") -> 0 | V108: =IF(V$101>0,+H108/V$101/8,"0") -> 0 | W108: =IF(W$101>0,+I108/W$101/8,"0") -> 0 | Y108: =IF(Y$101>0,+J108/Y$101/8,"0") -> 0 | Z108: =IF(Z$101>0,+K108/Z$101/8,"0") -> 0
A109: 3. Congedi retribuiti | N109: 3. Giorni congedi pro-capite | S109: =IF(S$101>0,+F109/S$101/8,"0") -> 0 | T109: =IF(T$101>0,+G109/T$101/8,"0") -> 0 | V109: =IF(V$101>0,+H109/V$101/8,"0") -> 0 | W109: =IF(W$101>0,+I109/W$101/8,"0") -> 0 | Y109: =IF(Y$101>0,+J109/Y$101/8,"0") -> 0 | Z109: =IF(Z$101>0,+K109/Z$101/8,"0") -> 0
A110: 4. Permessi Legge 104 | L110: =IF(H104+H105+H106+H109+H110+H111+H112+H113+H114+H117+H119=0,"",IF(H104=0,IF(H105+H106+H109+H110+H111+H112+H113+H114+H117+H108>0,"Attenzione Zero Impiegati/Intermedi M full-time in B.2!",""),IF(H105+H106+H109+H110+H111+H112+H113+H114=0,"Nessuna assenza per Impiegati/Intermedi M?",""))) | N110: 4. Giorni Permessi 104 pro-capite | S110: =IF(S$101>0,+F110/S$101/8,"0") -> 0 | T110: =IF(T$101>0,+G110/T$101/8,"0") -> 0 | V110: =IF(V$101>0,+H110/V$101/8,"0") -> 0 | W110: =IF(W$101>0,+I110/W$101/8,"0") -> 0 | Y110: =IF(Y$101>0,+J110/Y$101/8,"0") -> 0 | Z110: =IF(Z$101>0,+K110/Z$101/8,"0") -> 0
A111: 4a.di cui | N111: 4a. | S111: =IF(S$101>0,+F111/S$101/8,"0") -> 0 | T111: =IF(T$101>0,+G111/T$101/8,"0") -> 0 | V111: =IF(V$101>0,+H111/V$101/8,"0") -> 0 | W111: =IF(W$101>0,+I111/W$101/8,"0") -> 0 | Y111: =IF(Y$101>0,+J111/Y$101/8,"0") -> 0 | Z111: =IF(Z$101>0,+K111/Z$101/8,"0") -> 0
A112: 5. Altri permessi retribuiti | L112: =IF(I104+I105+I106+I109+I110+I111+I112+I113+I114+I117+I119=0,"",IF(I104=0,IF(I105+I106+I109+I110+I111+I112+I113+I114+I117+I108>0,"Attenzione Zero Impiegati/Intermedi F full-time in B.2!",""),IF(I105+I106+I109+I110+I111+I112+I113+I114=0,"Nessuna assenza per Impiegati/Intermedi F?",""))) | N112: 5. Giorni altri permessi retr pro-capite | S112: =IF(S$101>0,+F112/S$101/8,"0") -> 0 | T112: =IF(T$101>0,+G112/T$101/8,"0") -> 0 | V112: =IF(V$101>0,+H112/V$101/8,"0") -> 0 | W112: =IF(W$101>0,+I112/W$101/8,"0") -> 0 | Y112: =IF(Y$101>0,+J112/Y$101/8,"0") -> 0 | Z112: =IF(Z$101>0,+K112/Z$101/8,"0") -> 0
A113: 6. Altre assenze non retribuite | L113: =IF(J104+J105+J106+J109+J110+J111+J112+J113+J114+J117+J119=0,"",IF(J104=0,IF(J105+J106+J109+J110+J111+J112+J113+J114+J117+J108>0,"Attenzione Zero Operai M full-time in B.2!",""),IF(J105+J106+J109+J110+J111+J112+J113+J114=0,"Nessuna assenza per Operai M?",""))) | N113: 6. Giorni altre assenze nr pro-capite | S113: =IF(S$101>0,+F113/S$101/8,"0") -> 0 | T113: =IF(T$101>0,+G113/T$101/8,"0") -> 0 | V113: =IF(V$101>0,+H113/V$101/8,"0") -> 0 | W113: =IF(W$101>0,+I113/W$101/8,"0") -> 0 | Y113: =IF(Y$101>0,+J113/Y$101/8,"0") -> 0 | Z113: =IF(Z$101>0,+K113/Z$101/8,"0") -> 0
A114: 7. Assenze per sciopero | L114: =IF(K104+K105+K106+K109+K110+K111+K112+K113+K114+K117+K119=0,"",IF(K104=0,IF(K105+K106+K109+K110+K111+K112+K113+K114+K117+K108>0,"Attenzione Zero Operai F full-time in B.2!",""),IF(K105+K106+K109+K110+K111+K112+K113+K114=0,"Nessuna assenza per Operai F?",""))) | N114: 7. Giorni sciopero pro-capite | S114: =IF(S$101>0,+F114/S$101/8,"0") -> 0 | T114: =IF(T$101>0,+G114/T$101/8,"0") -> 0 | V114: =IF(V$101>0,+H114/V$101/8,"0") -> 0 | W114: =IF(W$101>0,+I114/W$101/8,"0") -> 0 | Y114: =IF(Y$101>0,+J114/Y$101/8,"0") -> 0 | Z114: =IF(Z$101>0,+K114/Z$101/8,"0") -> 0
A115: 8a. CIGO | S115: =IF(S$101>0,+F115/S$101/8,"0") -> 0 | T115: =IF(T$101>0,+G115/T$101/8,"0") -> 0 | V115: =IF(V$101>0,+H115/V$101/8,"0") -> 0 | W115: =IF(W$101>0,+I115/W$101/8,"0") -> 0 | Y115: =IF(Y$101>0,+J115/Y$101/8,"0") -> 0 | Z115: =IF(Z$101>0,+K115/Z$101/8,"0") -> 0
A116: 8b. CIGS | S116: =IF(S$101>0,+F116/S$101/8,"0") -> 0 | T116: =IF(T$101>0,+G116/T$101/8,"0") -> 0 | V116: =IF(V$101>0,+H116/V$101/8,"0") -> 0 | W116: =IF(W$101>0,+I116/W$101/8,"0") -> 0 | Y116: =IF(Y$101>0,+J116/Y$101/8,"0") -> 0 | Z116: =IF(Z$101>0,+K116/Z$101/8,"0") -> 0
A117: 8. CIG o Fondi di solidarietà (es. FIS) | N117: 8. Giorni CIG pro-capite | S117: =IF(S$101>0,+F117/S$101/8,"0") -> 0 | T117: =IF(T$101>0,+G117/T$101/8,"0") -> 0 | V117: =IF(V$101>0,+H117/V$101/8,"0") -> 0 | W117: =IF(W$101>0,+I117/W$101/8,"0") -> 0 | Y117: =IF(Y$101>0,+J117/Y$101/8,"0") -> 0 | Z117: =IF(Z$101>0,+K117/Z$101/8,"0") -> 0
A118: 8a Di cui CIG in deroga | S118: =IF(S$101>0,+F118/S$101,"0") -> 0
A119: 9. Ore di lavoro straordinario | N119: 9. Ore straordinario pro-capite | V119: =IF(V$101>0,+H119/V$101,"0") -> 0 | W119: =IF(W$101>0,+I119/W$101,"0") -> 0 | Y119: =IF(Y$101>0,+J119/Y$101,"0") -> 0 | Z119: =IF(Z$101>0,+K119/Z$101,"0") -> 0
A120: 10a. Ore di solidarietà (CDS) effettuate nell'anno
A121: 10b. Lavoratori effettivamente coinvolti nel CDS
N122: Tasso di gravità | P122: =IF(P101>0,+(S122*S101+V122*V101+Y122*Y101)/P101,"0") -> 0 | Q122: =IF(Q101>0,+(T122*T101+W122*W101+Z122*Z101)/Q101,"0") -> 0 | R122: =IF(P101>0,IF(Q101>0,+R104/R102,P122),Q122) -> 0 | S122: =IF(S101>0,+S104/S102,"0") -> 0 | T122: =IF(T101>0,+T104/T102,"0") -> 0 | U122: =IF(S101>0,IF(T101>0,+U104/U102,S122),T122) -> 0 | V122: =IF(V101>0,+V104/V102,"0") -> 0 | W122: =IF(W101>0,+W104/W102,"0") -> 0 | X122: =IF(V101>0,IF(W101>0,+X104/X102,V122),W122) -> 0 | Y122: =IF(Y101>0,+Y104/Y102,"0") -> 0 | Z122: =IF(Z101>0,+Z104/Z102,"0") -> 0 | AA122: =IF(Y101>0,IF(Z101>0,+AA104/AA102,Y122),Z122) -> 0
A123: NOTE PER LA COMPILAZIONE DELLA TABELLA C.3 | N123: * Numero medio di lavoratori a tempo indeterminato full-time
A124: Punti 1-7: indicare il numero complessivo di ore perse per motivo di assenza, per qualifica e per sesso.
A125: Punto 2: indicare le ore di assenza per: malattia non professionale; infortuni extra-lavorativi; cure termali non in conto ferie; casi di malattia che determinano un'anticipazione o prolungamento del periodo di gravidanza o puerperio.
A126: Punto 2a: solo per gli operai, del totale indicato al punto 2, indicare le ore di assenza per malattia rientranti nel periodo di "carenza", ovvero nei primi tre giorni di malattia non indennizzati da INPS.
A127: Punto 3: indicare le ore di assenza per congedi parentali (es. maternità obbligatoria e facoltativa, allattamento) e matrimoniali.
A128: Punto 5: indicare le ore di assenza per permessi sindacali (aziendali, provinciali, nazionali), per ore di assemblea e per tutti i permessi per visite mediche e altri motivi retribuiti, non ricomprese nelle righe precedenti. In tali permessi non rientrano quelli goduti a fronte di riduzione di orario di lavoro (R.O.L.) di cui al punto C.1.
A129: Punto 6: indicare le ore di assenza per: congedi parentali non retribuiti; permessi non retribuiti; astensioni facoltative per maternità non retribuite; ecc.
A130: Punto 8: indicare il numero complessivo di ore di CIG (CIGO + CIGS + CIG in deroga) o Fondi di solidarietà (es. FIS) cui l'azienda ha fatto ricorso nel 2023.
A131: Punto 9: indicare il numero complessivo di ore di lavoro straordinario prestate nel 2023 eccedenti il normale orario contrattuale.
A133: D) LAVORO AGILE / SMART WORKING
A134: Le informazioni richieste in questa sezione si riferiscono al solo personale NON DIRIGENZIALE
A135: D.1 L’impresa utilizzava il lavoro agile / smart working prima del Covid?
H136: No | I136: FALSE | K136: FALSE | L136: =IF(P136+P137>1,"Scegliere una sola opzione","") | N136: =+IF(I136=TRUE,"1","0") -> 0 | P136: =N136*1 -> 0
H137: Sì | I137: FALSE | N137: =+IF(I137=TRUE,"1","0") -> 0 | P137: =N137*1 -> 0
A139: D.2 L’impresa ha utilizzato il lavoro agile / smart working nel 2023?
H140: No | I140: FALSE | K140: FALSE | L140: =IF(P140+P141>1,"Scegliere una sola opzione",IF(AND(P140=0,P141=1,F147=0),"Vai alla domanda D.3","")) | N140: =+IF(I140=TRUE,"1","0") -> 0 | P140: =N140*1 -> 0
...

Sheet feedback assenze
D2: Check-up assenze anno 2023 | H2: =CONCATENATE(" - ",UPPER(questionario!F15)) -> -
A4: =CONCATENATE("Buongiorno ",PROPER(questionario!D8),".") -> Buongiorno .
A5: Le confermiamo di aver ricevuto il questionario che ci ha gentilmente compilato.
A6: Vogliamo ringraziarla per l’indispensabile collaborazione che ci ha prestato e le restituiamo - sulla base dei dati che ha inserito - un quadro sintetico della situazione della sua azienda per quanto riguarda ore lavorate e tassi di assenza:
C8: Totale | F8: Quadri | I8: Impiegati/Intermedi | L8: Operai
C9: Maschi | D9: Femmine | E9: Totale | F9: Maschi | G9: Femmine | H9: Totale | I9: Maschi | J9: Femmine | K9: Totale | L9: Maschi | M9: Femmine | N9: Totale
A10: Lavoratori* | C10: =+F10+I10+L10 -> 0 | D10: =+G10+J10+M10 -> 0 | E10: =C10+D10 -> 0 | F10: =+questionario!S101 -> 0 | G10: =+questionario!T101 -> 0 | H10: =+F10+G10 -> 0 | I10: =+questionario!V101 -> 0 | J10: =+questionario!W101 -> 0 | K10: =+I10+J10 -> 0 | L10: =+questionario!Y101 -> 0 | M10: =+questionario!Z101 -> 0 | N10: =+L10+M10 -> 0
A11: Ore lavorabili | C11: =IF(C$10>0,+(F11*F$10+I11*I$10+L11*L$10)/C$10,"0") -> 0 | D11: =IF(D$10>0,+(G11*G$10+J11*J$10+M11*M$10)/D$10,"0") -> 0 | E11: =IF(C10>0,IF(D10>0,+(C11*C10+D11*D10)/E10,C11),D11) -> 0 | F11: =+questionario!S102 -> 0 | G11: =+questionario!T102 -> 0 | H11: =IF(F10>0,IF(G10>0,+(F11*F10+G11*G10)/H10,F11),G11) -> 0 | I11: =+questionario!V102 -> 0 | J11: =+questionario!W102 -> 0 | K11: =IF(I10>0,IF(J10>0,+(I11*I10+J11*J10)/K10,I11),J11) -> 0 | L11: =+questionario!Y102 -> 0 | M11: =+questionario!Z102 -> 0 | N11: =IF(L10>0,IF(M10>0,+(L11*L10+M11*M10)/N10,L11),M11) -> 0
A12: Ore lavorate | C12: =IF($C$10>0,+(F12*$F$10+I12*$I$10+L12*$L$10)/$C$10,"0") -> 0 | D12: =IF(D$10>0,+(G12*G$10+J12*J$10+M12*M$10)/D$10,"0") -> 0 | E12: =IF(C10>0,IF(D10>0,+(C12*C10+D12*D10)/E10,C12),D12) -> 0 | F12: =+questionario!S103 -> 0 | G12: =+questionario!T103 -> 0 | H12: =IF(F10>0,IF(G10>0,+(F12*F10+G12*G10)/H10,F12),G12) -> 0 | I12: =+questionario!V103 -> 0 | J12: =+questionario!W103 -> 0 | K12: =IF(I10>0,IF(J10>0,+(I12*I10+J12*J10)/K10,I12),J12) -> 0 | L12: =+questionario!Y103 -> 0 | M12: =+questionario!Z103 -> 0 | N12: =IF(L10>0,IF(M10>0,+(L12*L10+M12*M10)/N10,L12),M12) -> 0
A13: Ore assenza pro-capite | C13: =IF($C$10>0,+(F13*$F$10+I13*$I$10+L13*$L$10)/$C$10,"0") -> 0 | D13: =IF(D$10>0,+(G13*G$10+J13*J$10+M13*M$10)/D$10,"0") -> 0 | E13: =IF(C10>0,IF(D10>0,+E11-E12,C13),D13) -> 0 | F13: =IF(F10>0,+F11-F12,"0") -> 0 | G13: =IF(G10>0,+G11-G12,"0") -> 0 | H13: =IF(F10>0,IF(G10>0,+H11-H12,F13),G13) -> 0 | I13: =IF(I10>0,+I11-I12,"0") -> 0 | J13: =IF(J10>0,+J11-J12,"0") -> 0 | K13: =IF(I10>0,IF(J10>0,+K11-K12,I13),J13) -> 0 | L13: =IF(L10>0,+L11-L12,"0") -> 0 | M13: =IF(M10>0,+M11-M12,"0") -> 0 | N13: =IF(L10>0,IF(M10>0,+N11-N12,L13),M13) -> 0
A14: Tasso di gravità | C14: =IF($C$10>0,+(F14*$F$10+I14*$I$10+L14*$L$10)/$C$10,"0") -> 0 | D14: =IF(D$10>0,+(G14*G$10+J14*J$10+M14*M$10)/D$10,"0") -> 0 | E14: =IF(C10>0,IF(D10>0,+E13/E11,C14),D14) -> 0 | F14: =IF(F10>0,+F13/F11,"0") -> 0 | G14: =IF(G10>0,+G13/G11,"0") -> 0 | H14: =IF(F10>0,IF(G10>0,+H13/H11,F14),G14) -> 0 | I14: =IF(I10>0,+I13/I11,"0") -> 0 | J14: =IF(J10>0,+J13/J11,"0") -> 0 | K14: =IF(I10>0,IF(J10>0,+K13/K11,I14),J14) -> 0 | L14: =IF(L10>0,+L13/L11,"0") -> 0 | M14: =IF(M10>0,+M13/M11,"0") -> 0 | N14: =IF(L10>0,IF(M10>0,+N13/N11,L14),M14) -> 0
A15: * Numero medio di lavoratori a tempo indeterminato full-time in organico a dicembre 2022 e a dicembre 2023.
A17: Rimaniamo a disposizione per ogni chiarimento sui numeri contenuti nella tabella.
A18: =CONCATENATE("Ci auguriamo di poter contare anche in futuro sulla sua attiva partecipazione, e provvederemo a informarla - all’indirizzo ",LOWER(questionario!B10)," che ha indicato sul questionario - non appena saranno disponibili i risultati dell’indagine.") -> Ci auguriamo di poter contare anche in futuro sulla sua attiva partecipazione, e provvederemo a informarla - all’indirizzo che ha indicato sul questionario - non appena saranno disponibili i risultati dell’indagine.
A19: Con i migliori saluti.
A23: PER LE ASSOCIAZIONI: Metodo di calcolo del tasso di gravità
A25: Elementi per il calcolo: | G25: Esempio
A27: lavoratori al 31.12.2022 | G27: 9
A28: lavoratori al 31.12.2023 | G28: 11
A29: numero medio lavoratori nel 2023 | G29: =AVERAGE(G27:G28) -> 10
A30: giorni dell'anno | G30: 365
A31: sabati e domeniche | G31: 105
A32: festività infrasettimanali nel 2023 | G32: 10
A33: giorni di ferie e P.A.R. | G33: 33
A34: orario settimanale | G34: 40
A35: pause retribuite per settimana (in minuti) | G35: 60
A36: ore di CIG (pro-capite) | G36: =500/G29 -> 50
A37: Ore lavorabili: (365 - 105 - 10 - 33) x (40 - 60/60)/5 - 50 = | G37: =+((G30-G31-G33-G32)*((G34-(G35/60))/5))-G36 -> 1642.6
A39: 1. Infortuni sul lavoro e malattie professionali | G39: =100/G29 -> 10
A40: 2. Malattie non professionali | G40: =100/G29 -> 10
A41: 3. Congedi retribuiti | G41: =100/G29 -> 10
A42: 4. Altri permessi retribuiti | G42: =100/G29 -> 10
A43: 5. Assenze per sciopero | G43: =100/G29 -> 10
A44: 6. Altre assenze non retribuite | G44: =100/G29 -> 10
A45: 7. Ore di assemblea | G45: =100/G29 -> 10
A46: Ore di assenza pro-capite (totale): | G46: =SUM(G39:G45) -> 70
A48: Tasso di gravità: Ore di assenza in % delle ore lavorabili = | G48: =G46/G37 -> 0.042615366
D59: =+D55+SUM(D56:E58) -> 0 | F59: =+F55+SUM(F56:G58) -> 0 | H59: =+H55+SUM(H56:I58) -> 0 | J59: =+J55+SUM(J56:K58) -> 0

Sheet ccnl
B1: contratti | C1: 3 Colonne in cui pescano formule della tendina CCNL
C2: 1 | D2: (Scegliere CCNL principale)
A3: 0100 | B3: ALIMENTARE | C3: 2 | D3: 100 - ALIMENTARE | E3: =A3*1 -> 100
A4: 0102 | B4: ADDETTI IMBARCATI SU NATANTI ESERCENTI PESCA MARITTIMA | C4: 3 | D4: 102 - PESCA MARITTIMA | E4: =A4*1 -> 102
A5: 0200 | B5: METALMECCANICO | C5: 4 | D5: 200 - METALMECCANICO | E5: =A5*1 -> 200
A6: 0204 | B6: ORAFI E ARGENTIERI | C6: 5 | D6: 204 - ORAFI E ARGENTIERI | E6: =A6*1 -> 204
A7: 0300 | B7: TESSILE E ABBIGLIAMENTO | C7: 6 | D7: 300 - TESSILE E ABBIGLIAMENTO | E7: =A7*1 -> 300
A8: 0302 | B8: CALZATURIERO | C8: 7 | D8: 302 - CALZATURIERO | E8: =A8*1 -> 302
A9: 0303 | B9: PELLI, CUOIO E SUCCEDANEI | C9: 8 | D9: 303 - PELLI, CUOIO E SUCCEDANEI | E9: =A9*1 -> 303
A10: 0304 | B10: PENNE, MATITE E AFFINI, SPAZZOLE, PENNELLI, SCOPE | C10: 9 | D10: 304 - PENNE, MATITE E AFFINI, SPAZZOLE, PENNELLI, SCOPE | E10: =A10*1 -> 304
A11: 0306 | B11: OMBRELLI-OMBRELLONI | C11: 10 | D11: 306 - OMBRELLI-OMBRELLONI | E11: =A11*1 -> 306
A12: 0308 | B12: OCCHIALI E ARTICOLI INERENTI L'OCCHIALERIA | C12: 11 | D12: 308 - OCCHIALI E ARTICOLI INERENTI L'OCCHIALERIA | E12: =A12*1 -> 308
A13: 0309 | B13: FILIERA ITTICA E RETIFICI | C13: 12 | D13: 309 - FILIERA ITTICA E RETIFICI | E13: =A13*1 -> 309
A14: 0310 | B14: LAVANDERIE INDUSTRIALI | C14: 13 | D14: 310 - LAVANDERIE INDUSTRIALI | E14: =A14*1 -> 310
... A82: 3100 | B82: ALTRO | C82: 81 | D82: 3100 - ALTRO | E82: =A82*1 -> 3100

Sheet ateco2007_2digit
A1: Riga | B1: Descrizione | C1: Codice Ateco 2007
A2: 1 | B2: (Scegliere Ateco principale) | C2: 0
A3: 2 | B3: 01 - Coltivazioni agricole e produzione di prodotti animali, caccia e servizi connessi | C3: 1
A4: 3 | B4: 02 - Silvicoltura ed utilizzo di aree forestali | C4: 2
A5: 4 | B5: 03 - Pesca e acquacoltura | C5: 3
A6: 5 | B6: 05 - Estrazione di carbone (esclusa torba) | C6: 5
A7: 6 | B7: 06 - Estrazione di petrolio greggio e di gas naturale | C7: 6
A8: 7 | B8: 07 - Estrazione di minerali metalliferi | C8: 7
A9: 8 | B9: 08 - Altre attività di estrazione di minerali da cave e miniere | C9: 8
A10: 9 | B10: 09 - Attività dei servizi di supporto all'estrazione | C10: 9
A11: 10 | B11: 10 - Industrie alimentari | C11: 10
A12: 11 | B12: 11 - Industria delle bevande | C12: 11
A13: 12 | B13: 12 - Industria del tabacco | C13: 12
... A90: 89 | B90: 99 - Organizzazioni ed organismi extraterritoriali | C90: 99

Sheet provincia
A1: 1 | B1: (Scegliere Provincia) | D1: Denominazione regione | E1: Ripartizione geografica
A2: 2 | B2: AG - Agrigento | C2: AG | D2: SICILIA | E2: ISOLE | F2: CENTRO-SUD
A3: 3 | B3: AL - Alessandria | C3: AL | D3: PIEMONTE | E3: NORD-OVEST | F3: NORD-OVEST
A4: 4 | B4: AN - Ancona | C4: AN | D4: MARCHE | E4: CENTRO | F4: CENTRO-SUD
A5: 5 | B5: AO - Valle d'Aosta | C5: AO | D5: VALLE D'AOSTA | E5: NORD-OVEST | F5: NORD-OVEST
A6: 6 | B6: AP - Ascoli Piceno | C6: AP | D6: MARCHE | E6: CENTRO | F6: CENTRO-SUD
A7: 7 | B7: AQ - L'Aquila | C7: AQ | D7: ABRUZZO | E7: SUD | F7: CENTRO-SUD
A8: 8 | B8: AR - Arezzo | C8: AR | D8: TOSCANA | E8: CENTRO | F8: CENTRO-SUD
A9: 9 | B9: AT - Asti | C9: AT | D9: PIEMONTE | E9: NORD-OVEST | F9: NORD-OVEST
A10: 10 | B10: AV - Avellino | C10: AV | D10: CAMPANIA | E10: SUD | F10: CENTRO-SUD
A11: 11 | B11: BA - Bari | C11: BA | D11: PUGLIA | E11: SUD | F11: CENTRO-SUD
A12: 12 | B12: BG - Bergamo | C12: BG | D12: LOMBARDIA | E12: NORD-OVEST | F12: NORD-OVEST
A13: 13 | B13: BI - Biella | C13: BI | D13: PIEMONTE | E13: NORD-OVEST | F13: NORD-OVEST
... A108: 108 | B108: VV - Vibo Valentia | C108: VV | D108: CALABRIA | E108: SUD | F108: CENTRO-SUD
